Workbook
Name _ftn1: 'Reference Tables'!$B$58
Name _ftn2: 'Reference Tables'!$B$59
Name _ftn3: 'Reference Tables'!$B$60
Name _ftnref1: 'Reference Tables'!$B$50
Name _ftnref2: 'Reference Tables'!$B$53
Name _ftnref3: 'Reference Tables'!$B$55
Name Commercial_MemberMonths_2018: 'Validation by Market'!$C$36
Name Commercial_MemberMonths_2019: 'Validation by Market'!$D$36
Name Commercial_MemberMonths_2020: 'Validation by Market'!$D$146
Name Commercial_MemberMonths_2021: 'Validation by Market'!$D$256
Name ICC1_MemberMonths_2018: 'Validation by Market'!$H$63
Name ICC1_MemberMonths_2019: 'Validation by Market'!$I$63
Name ICC1_MemberMonths_2020: 'Validation by Market'!$I$173
Name ICC1_MemberMonths_2021: 'Validation by Market'!$I$283
Name ICC2_MemberMonths_2018: 'Validation by Market'!$H$90
Name ICC2_MemberMonths_2019: 'Validation by Market'!$I$90
Name ICC2_MemberMonths_2020: 'Validation by Market'!$I$200
Name ICC2_MemberMonths_2021: 'Validation by Market'!$I$310
Name ICC3_MemberMonths_2018: 'Validation by Market'!$H$36
Name ICC3_MemberMonths_2019: 'Validation by Market'!$I$36
Name ICC3_MemberMonths_2020: 'Validation by Market'!$I$146
Name ICC3_MemberMonths_2021: 'Validation by Market'!$I$256
Name ICC4_MemberMonths_2018: 'Validation by Market'!$M$36
Name ICC4_MemberMonths_2019: 'Validation by Market'!$N$36
Name ICC4_MemberMonths_2020: 'Validation by Market'!$N$146
Name ICC4_MemberMonths_2021: 'Validation by Market'!$N$256
Name ICC5_MemberMonths_2018: 'Validation by Market'!$M$63
Name ICC5_MemberMonths_2019: 'Validation by Market'!$N$63
Name ICC5_MemberMonths_2020: 'Validation by Market'!$N$173
Name ICC5_MemberMonths_2021: 'Validation by Market'!$N$283
Name ICC6_MemberMonths_2018: 'Validation by Market'!$M$90
Name ICC6_MemberMonths_2019: 'Validation by Market'!$N$90
Name ICC6_MemberMonths_2020: 'Validation by Market'!$N$200
Name ICC6_MemberMonths_2021: 'Validation by Market'!$N$310
Name Insurer_Code: 'Data Validation Checks'!$B$4
Name Medicaid_MemberMonths_2018: 'Validation by Market'!$C$90
Name Medicaid_MemberMonths_2019: 'Validation by Market'!$D$90
Name Medicaid_MemberMonths_2020: 'Validation by Market'!$D$200
Name Medicaid_MemberMonths_2021: 'Validation by Market'!$D$310
Name Medicare_MemberMonths_2018: 'Validation by Market'!$C$63
Name Medicare_MemberMonths_2019: 'Validation by Market'!$D$63
Name Medicare_MemberMonths_2020: 'Validation by Market'!$D$173
Name Medicare_MemberMonths_2021: 'Validation by Market'!$D$283

Sheet Contents
A1: Nevada's Health Care Cost Growth Target Program - Data Submission Template
A2: Version 1.1, May 2022
A4: This workbook contains the following tabs:
A6: Tab Name | B6: Contents
A7: Reference Tables | B7: Lookup Tables for Codes for Tabs 2-5.
A8: 1. Cover Page | B8: Insurer info and attestation.
A9: 2. TME | B9: Total Medical Expenses for all of the insurer’s members by insurance category, Large Provider Entity, and age/sex band.
A10: 3. SD | B10: Standard Deviations on per member per month claims spending by market for the insurer overall for each Large Provider Entity.
A11: 4. LOB_ENROLL | B11: Insurer’s member months by line of business.
A12: 5. RX_REBATE | B12: Pharmacy rebates data by line of business.
A13: 6. Mandatory Questions | B13: Data submission confirmation.
A14: Data Validation Checks | B14: Summary tables intended to help insurers validate their data prior to submission.
A15: Validation by Market | B15: Summary tables intended to help insurers validate their data prior to submission.
A16: Validation by Provider | B16: Summary tables intended to help insurers validate their data prior to submission.

Sheet Reference Tables
A1: Reference Tables
A4: Insurance Category Code | B4: Description
A5: 1 | B5: Medicare Expenses for Non-Dual Eligible Members
A6: 2 | B6: Medicaid Expenses for Non-Dual Eligible Members
A7: 3 | B7: Commercial: Full Claims
A8: 4 | B8: Commercial: Partial Claims
A9: 5 | B9: Medicare Expenses for Medicare/Medicaid Dual Eligible
A10: 6 | B10: Medicaid Expenses for Medicare/Medicaid Dual Eligible
A13: Market Code | B13: Description
A14: 1 | B14: Medicare (Insurance Category Codes 1 and 5)
A15: 2 | B15: Medicaid (Insurance Category Codes 2 and 6)
A16: 3 | B16: Commercial (Insurance Category Codes 3 and 4)
A19: Line of Business Categories | B19: Description
A20: 1 | B20: Large group (51 + employees), fully insured
A21: 2 | B21: Small group (2-50 employees), fully insured
A22: 3 | B22: Self-insured
A23: 4 | B23: Individual (buy coverage on their own)
A24: 5 | B24: Student plans
A25: 6 | B25: Medicare Advantage for Non-Dual Eligible Members
A26: 7 | B26: Medicaid Managed Care for Non-Dual Eligible Members
A27: 8 | B27: Medicare Dual Eligible Members
A28: 9 | B28: Medicaid Dual Eligible Members
A31: Large Provider Entity Code | B31: Description
A32: 100 | B32: Insurer Overall
A33: 101 | B33: Bacchus Wakefield Kahan PC
A34: 102 | B34: Community Care Services
A35: 103 | B35: First Person Care Clinic
A36: 104 | B36: Intermountain Healthcare
A37: 105 | B37: NEM Medical Center
A38: 106 | B38: Nevada Health Centers
A39: 107 | B39: Procare Medical Group
A40: 108 | B40: Robert B McBeath MD II PC
A41: 109 | B41: Southwest Medical Associates
A42: 110 | B42: St. Mary’s Medical Group
A43: 111 | B43: UNLV Medicine
A44: 999 | B44: Members Not Attributed to a Large Provider Entity
A47: Insurer Code | B47: Description
A48: 201 | B48: Aetna
A49: 202 | B49: Anthem
A50: 203 | B50: Centene
...

Sheet 1. Cover Page
A1: 1. Cover Page
A4: Contact Information
A6: Insurer Name: | D6: [Input Required]
A7: Contact Name: | D7: [Input Required]
A8: Contact Email: | D8: [Input Required]
A10: Attestation
B12: I hereby attest that the information submitted in this data submission template is current, complete and accurate to the best of my knowledge. Failure to attest will result in DHHS OOA's non-acceptance of the data submission.
A13: Authorized Signatory: | D13: [Input Required]
A14: Date: | D14: [Input Required]

Sheet 2. TME
A1: 2. Total Medical Expenses (TME)
A4: Black = Insurer-reported data
A5: Blue = OOA calculated data
A6: When the insurer-entered data does not meet the desired format, the cell will become red.
A8: TME01 | B8: TME02 | C8: TME03 | D8: TME04 | E8: TME05 | F8: TME06 | G8: TME07 | H8: TME08 | I8: TME09 | J8: TME10 | K8: TME11 | L8: TME12 | M8: TME13 | N8: TME14 | O8: TME15 | P8: TME16 | Q8: TME17 | R8: TME18 | S8: TME19 | T8: TME20 | U8: TME21 | V8: TME22 | W8: TME23 | X8: TME24 | Y8: TME25 | Z8: TME26 | AA8: TME27 | AB8: TME28 | AC8: TME29
A9: code | B9: year | C9: code | D9: code | E9: non-negative integer | F9: non-negative number | G9: non-negative number | H9: non-negative number | I9: non-negative number | J9: non-negative number | K9: non-negative number | L9: non-negative number | M9: non-negative number | N9: non-negative number | O9: Number | P9: non-negative number | Q9: non-negative number | R9: non-positive number | S9: non-negative number | T9: non-negative number | U9: non-negative number | V9: non-negative integer
A10: Insurer Code | B10: Reporting Year | C10: Insurance Category Code | D10: Large Provider Entity Code | E10: Member Months | F10: Claims: Hospital Inpatient | G10: Claims: Hospital Outpatient | H10: Claims: Professional, Primary Care Providers | I10: Claims: Professional, Specialty Providers | J10: Claims: Professional, Other Providers | K10: Claims: Long-Term Care | L10: Claims: Retail Pharmacy | M10: Claims: Other | N10: Non-Claims: Capitation or Bundled Pmts | O10: Non-Claims: Performance Incentive Pmts | P10: Non-Claims: Pop Health and Practice Infrastructure Pmts | Q10: Non-Claims: Provider Salaries | R10: Non-Claims: Recovery | S10: Non-Claims: Other | T10: Non-Claims: Total Primary Care Non-Claims-Based Payments | U10: Total Claims Excluded because of Truncation | V10: Count of Members with Claims Truncated | W10: Total Non-Truncated Claims Spending | X10: Total Non-Claims Spending | Y10: Total Non-Truncated Claims and Non-Claims Spending | Z10: Total Truncated Claims Spending | AA10: Truncated Total Expenses (Total Truncated Claims Expenses + Non-Claims Expenses) | AB10: Non-Truncated TME PMPM | AC10: Truncated TME PMPM
W11: =SUM(F11:M11) -> 0 | X11: =SUM(N11:S11) -> 0 | Y11: =W11+X11 -> 0 | Z11: =W11-U11 -> 0 | AA11: =Z11+X11 -> 0 | AB11: =Y11/E11 -> #DIV/0! | AC11: =AA11/E11 -> #DIV/0!
W12: =SUM(F12:M12) -> 0 | X12: =SUM(N12:S12) -> 0 | Y12: =W12+X12 -> 0 | Z12: =W12-U12 -> 0 | AA12: =Z12+X12 -> 0 | AB12: =Y12/E12 -> #DIV/0! | AC12: =AA12/E12 -> #DIV/0!
W13: =SUM(F13:M13) -> 0 | X13: =SUM(N13:S13) -> 0 | Y13: =W13+X13 -> 0 | Z13: =W13-U13 -> 0 | AA13: =Z13+X13 -> 0 | AB13: =Y13/E13 -> #DIV/0! | AC13: =AA13/E13 -> #DIV/0!
W14: =SUM(F14:M14) -> 0 | X14: =SUM(N14:S14) -> 0 | Y14: =W14+X14 -> 0 | Z14: =W14-U14 -> 0 | AA14: =Z14+X14 -> 0 | AB14: =Y14/E14 -> #DIV/0! | AC14: =AA14/E14 -> #DIV/0!
W15: =SUM(F15:M15) -> 0 | X15: =SUM(N15:S15) -> 0 | Y15: =W15+X15 -> 0 | Z15: =W15-U15 -> 0 | AA15: =Z15+X15 -> 0 | AB15: =Y15/E15 -> #DIV/0! | AC15: =AA15/E15 -> #DIV/0!
W16: =SUM(F16:M16) -> 0 | X16: =SUM(N16:S16) -> 0 | Y16: =W16+X16 -> 0 | Z16: =W16-U16 -> 0 | AA16: =Z16+X16 -> 0 | AB16: =Y16/E16 -> #DIV/0! | AC16: =AA16/E16 -> #DIV/0!
W17: =SUM(F17:M17) -> 0 | X17: =SUM(N17:S17) -> 0 | Y17: =W17+X17 -> 0 | Z17: =W17-U17 -> 0 | AA17: =Z17+X17 -> 0 | AB17: =Y17/E17 -> #DIV/0! | AC17: =AA17/E17 -> #DIV/0!
W18: =SUM(F18:M18) -> 0 | X18: =SUM(N18:S18) -> 0 | Y18: =W18+X18 -> 0 | Z18: =W18-U18 -> 0 | AA18: =Z18+X18 -> 0 | AB18: =Y18/E18 -> #DIV/0! | AC18: =AA18/E18 -> #DIV/0!
W19: =SUM(F19:M19) -> 0 | X19: =SUM(N19:S19) -> 0 | Y19: =W19+X19 -> 0 | Z19: =W19-U19 -> 0 | AA19: =Z19+X19 -> 0 | AB19: =Y19/E19 -> #DIV/0! | AC19: =AA19/E19 -> #DIV/0!
W20: =SUM(F20:M20) -> 0 | X20: =SUM(N20:S20) -> 0 | Y20: =W20+X20 -> 0 | Z20: =W20-U20 -> 0 | AA20: =Z20+X20 -> 0 | AB20: =Y20/E20 -> #DIV/0! | AC20: =AA20/E20 -> #DIV/0!
W21: =SUM(F21:M21) -> 0 | X21: =SUM(N21:S21) -> 0 | Y21: =W21+X21 -> 0 | Z21: =W21-U21 -> 0 | AA21: =Z21+X21 -> 0 | AB21: =Y21/E21 -> #DIV/0! | AC21: =AA21/E21 -> #DIV/0!
W22: =SUM(F22:M22) -> 0 | X22: =SUM(N22:S22) -> 0 | Y22: =W22+X22 -> 0 | Z22: =W22-U22 -> 0 | AA22: =Z22+X22 -> 0 | AB22: =Y22/E22 -> #DIV/0! | AC22: =AA22/E22 -> #DIV/0!
... W59: =SUM(F59:M59) -> 0 | X59: =SUM(N59:S59) -> 0 | Y59: =W59+X59 -> 0 | Z59: =W59-U59 -> 0 | AA59: =Z59+X59 -> 0 | AB59: =Y59/E59 -> #DIV/0! | AC59: =AA59/E59 -> #DIV/0!

Sheet 3. SD
A1: 3. Standard Deviation (SD)
A4: Black = Insurer-reported data
A5: Blue = OOA calculated data
A6: When the insurer-entered data does not meet the desired format, the cell will become red.
A8: SD01 | B8: SD02 | C8: SD03 | D8: SD04 | E8: SD05 | F8: SD06 | G8: SD07
A9: code | B9: year | C9: code | D9: code | E9: non-negative integer | F9: non-negative number | G9: non-negative number
A10: Insurer Code | B10: Reporting Year | C10: Market Code | D10: Large Provider Entity Code | E10: Member Months | F10: Total Truncated Claims Spending | G10: Standard Deviation PMPM

Sheet 4. LOB_ENROLL
A1: 4. Line of Business (LOB) Enrollment Data
A4: Black = Insurer-reported data
A5: Blue = OOA calculated data
A6: When the insurer-entered data does not meet the desired format, the cell will become red.
A8: LOB01 | B8: LOB02 | C8: LOB03 | D8: LOB04 | E8: LOB05 | F8: LOB06
A9: code | B9: code | C9: non-negative integer | D9: non-negative integer | E9: non-negative integer | F9: non-negative integer
A10: Insurer Code | B10: Line of Business Category | C10: Year 2018 Member Months | D10: Year 2019 Member Months | E10: Year 2020 Member Months | F10: Year 2021 Member Months

Sheet 5. RX_REBATE
A1: 5. Pharmacy Rebates Data
A4: Black = Insurer-reported data
A5: Blue = OOA calculated data
A6: When the insurer-entered data does not meet the desired format, the cell will become red.
A8: RXR01 | B8: RXR02 | C8: RXR03 | D8: RXR04 | E8: RXR05 | F8: RXR06 | G8: RXR07
A9: code | B9: year | C9: Code | D9: negative number | E9: negative number | F9: negative number
A10: Insurer Code | B10: Reporting Year | C10: Insurance Category Code | D10: Medical Pharmacy Rebate Amount | E10: Retail Pharmacy Rebate Amount | F10: Total Pharmacy Rebate Amount (Optional) | G10: Total Pharmacy Rebate Amount
G11: =D11+E11 -> 0
G12: =D12+E12 -> 0
G13: =D13+E13 -> 0
G14: =D14+E14 -> 0
G15: =D15+E15 -> 0
G16: =D16+E16 -> 0
G17: =D17+E17 -> 0
G18: =D18+E18 -> 0
G19: =D19+E19 -> 0
G20: =D20+E20 -> 0
G21: =D21+E21 -> 0
G22: =D22+E22 -> 0
... G28: =D28+E28 -> 0

Sheet 6. Mandatory Questions
A1: 6. Mandatory Questions
A2: All questions in this tab must be answered.
A5: Data Submission Information
B7: Table 1.1 Data Completeness and Estimation
B8: Questions | D8: Response | E8: Comments
B9: What is the overall completeness of the claims data (please reported as a %)?
B10: How long was the claims runout period for Claims Payments (please report as days)?
B11: How long was the runout period for Non-Claims Payments (please report as days)?
B12: Are IBNR/IBNP factors applied to the Claims Payments?
B13: Are pharmacy rebate data estimated? If yes, how?
B14: What carve-out services are estimated? (for commercial: partial claims only)
B16: Table 1.2 TME Data Inclusion and Exclusion
B17: Questions | D17: Response | E17: Comments
B18: Are the Claims Payments reported as allowed amounts, including both payments that Insurers paid to providers and member cost sharing?
B19: Is the spending reported in a manner consistent with the service category definitions outlined in the Data Specifications Manual?
B20: Does the TME data include Nevada residents only?
B21: Do the TME data include payments for services rendered by providers, regardless of location of provider?
B22: Do the TME data include payments for services rendered by providers, regardless of the situs of the member's plan?
B23: Are the data limited only to members for whom the insurer is primary on the claim?
B24: Please describe your methodology for attributing members to a primary care provider.
B25: Please describe your methodology for attributing primary care providers to a Large Provider Entity.
B26: Are members attributed to provider organizations consistent with your contracts with each provider?
B27: Are TME data submitted based on the incurred date/date of service?
B28: Is truncation applied at the member level?
B29: Does the truncated spending include only claims data?
... B32: Table 1.3 Standard Deviation
B33: Questions | D33: Response | E33: Comments
B34: Are the standard deviations calculated using the formula for population standard deviation?
B35: Are non-claims expenses excluded from the calculation of standard deviations?
B36: Is estimated spending on carved out services at the member month level included in the calculation of standard deviation? (for commercial market only)
B37: When calculating standard deviation, did you include all the member months, regardless of whether the member has paid claims for that month?
B38: When calculating the standard deviation, did you use each member’s average cost per month applied to each month they were enrolled, instead of the actual utilization each month?
B39: Is standard deviation calculated by market, which combines certain Insurance Category Codes?
B41: Table 1.4 Income from Fees of Uninsured Plans
B42: Questions | D42: Reporting Year 2018 | E42: Reporting Year 2019 | F42: Reporting Year 2020 | G42: Reporting Year 2021
B43: Did you have self-insured lines of business reported in Tab 4. LOB_ENROLL?
B44: If yes, please enter the income from fees of uninsured plans here.
B46: Table 1.5 "Doing Business As"
B47: Questions | D47: "Doing Business As" Information | E47: Comments
B48: What are all the names under which you are "doing business" as in the state of Nevada? (for Medicare Managed Care organizations only)

Sheet Data Validation Checks
A1: Data Validation
A2: This tab includes various data validation checks to confirm consistency and reasonableness of data across and within tabs.
A4: Insurer Code: | B4: ='2. TME'!A11 -> 0
A6: Consistency of Member Months Across TME and LOB_ENROLL tabs
A7: Red highlighting indicates member months do not match across tabs.
A8: Category | B8: 2018 | F8: 2019 | J8: 2020 | N8: 2021
B9: TME | C9: LOB_ENROLL | D9: Consistent? | E9: Variation | F9: TME | G9: LOB_ENROLL | H9: Consistent? | I9: Variation | J9: TME | K9: LOB_ENROLL | L9: Consistent? | M9: Variation | N9: TME | O9: LOB_ENROLL | P9: Consistent? | Q9: Variation
A10: Total | B10: =SUM(B20:B25) -> 0 | C10: =SUM(LOB_ENROLL[[#All],[Year 2018 Member Months]]) -> 0 | D10: =IF(B10=C10,"Yes","No") -> Yes | E10: =ABS(B10-C10) -> 0 | F10: =SUM(C20:C25) -> 0 | G10: =SUM(LOB_ENROLL[[#All],[Year 2019 Member Months]]) -> 0 | H10: =IF(F10=G10,"Yes","No") -> Yes | I10: =ABS(F10-G10) -> 0 | J10: =SUM(D20:D25) -> 0 | K10: =SUM(LOB_ENROLL[[#All],[Year 2020 Member Months]]) -> 0 | L10: =IF(J10=K10,"Yes","No") -> Yes | M10: =ABS(J10-K10) -> 0 | N10: =SUM(E20:E25) -> 0 | O10: =SUM(LOB_ENROLL[[#All],[Year 2021 Member Months]]) -> 0 | P10: =IF(N10=O10,"Yes","No") -> Yes | Q10: =ABS(N10-O10) -> 0
A11: Medicare | B11: =B20 -> 0 | C11: =SUMIF(LOB_ENROLL[[#All],[Line of Business Category]],6,LOB_ENROLL[[#All],[Year 2018 Member Months]]) -> 0 | D11: =IF(B11=C11,"Yes","No") -> Yes | E11: =ABS(B11-C11) -> 0 | F11: =C20 -> 0 | G11: =SUMIF(LOB_ENROLL[[#All],[Line of Business Category]],6,LOB_ENROLL[[#All],[Year 2019 Member Months]]) -> 0 | H11: =IF(F11=G11,"Yes","No") -> Yes | I11: =ABS(F11-G11) -> 0 | J11: =D20 -> 0 | K11: =SUMIF(LOB_ENROLL[[#All],[Line of Business Category]],6,LOB_ENROLL[[#All],[Year 2020 Member Months]]) -> 0 | L11: =IF(J11=K11,"Yes","No") -> Yes | M11: =ABS(J11-K11) -> 0 | N11: =E20 -> 0 | O11: =SUMIF(LOB_ENROLL[[#All],[Line of Business Category]],6,LOB_ENROLL[[#All],[Year 2021 Member Months]]) -> 0 | P11: =IF(N11=O11,"Yes","No") -> Yes | Q11: =ABS(N11-O11) -> 0
A12: Medicaid | B12: =B21 -> 0 | C12: =SUMIF(LOB_ENROLL[[#All],[Line of Business Category]],7,LOB_ENROLL[[#All],[Year 2018 Member Months]]) -> 0 | D12: =IF(B12=C12,"Yes","No") -> Yes | E12: =ABS(B12-C12) -> 0 | F12: =C21 -> 0 | G12: =SUMIF(LOB_ENROLL[[#All],[Line of Business Category]],7,LOB_ENROLL[[#All],[Year 2019 Member Months]]) -> 0 | H12: =IF(F12=G12,"Yes","No") -> Yes | I12: =ABS(F12-G12) -> 0 | J12: =D21 -> 0 | K12: =SUMIF(LOB_ENROLL[[#All],[Line of Business Category]],7,LOB_ENROLL[[#All],[Year 2020 Member Months]]) -> 0 | L12: =IF(J12=K12,"Yes","No") -> Yes | M12: =ABS(J12-K12) -> 0 | N12: =E21 -> 0 | O12: =SUMIF(LOB_ENROLL[[#All],[Line of Business Category]],7,LOB_ENROLL[[#All],[Year 2021 Member Months]]) -> 0 | P12: =IF(N12=O12,"Yes","No") -> Yes | Q12: =ABS(N12-O12) -> 0
A13: Duals (ICCs 5+6) | B13: =SUM(B24:B25) -> 0 | C13: =SUMIF(LOB_ENROLL[[#All],[Line of Business Category]],8,LOB_ENROLL[[#All],[Year 2018 Member Months]]) -> 0 | D13: =IF(B13=C13,"Yes","No") -> Yes | E13: =ABS(B13-C13) -> 0 | F13: =SUM(C24:C25) -> 0 | G13: =SUMIF(LOB_ENROLL[[#All],[Line of Business Category]],8,LOB_ENROLL[[#All],[Year 2019 Member Months]]) -> 0 | H13: =IF(F13=G13,"Yes","No") -> Yes | I13: =ABS(F13-G13) -> 0 | J13: =SUM(D24:D25) -> 0 | K13: =SUMIF(LOB_ENROLL[[#All],[Line of Business Category]],8,LOB_ENROLL[[#All],[Year 2020 Member Months]]) -> 0 | L13: =IF(J13=K13,"Yes","No") -> Yes | M13: =ABS(J13-K13) -> 0 | N13: =SUM(E24:E25) -> 0 | O13: =SUMIF(LOB_ENROLL[[#All],[Line of Business Category]],8,LOB_ENROLL[[#All],[Year 2021 Member Months]]) -> 0 | P13: =IF(N13=O13,"Yes","No") -> Yes | Q13: =ABS(N13-O13) -> 0
A14: Commercial (ICCs 3+4) | B14: =SUM(B22:B23) -> 0 | C14: =SUMIF(LOB_ENROLL[[#All],[Line of Business Category]],1,LOB_ENROLL[[#All],[Year 2018 Member Months]])+SUMIF(LOB_ENROLL[[#All],[Line of Business Category]],2,LOB_ENROLL[[#All],[Year 2018 Member Months]])+SUMIF(LOB_ENROLL[[#All],[Line of Business Category]],3,LOB_ENROLL[[#All],[Year 2018 Member Months]])+SUMIF(LOB_ENROLL[[#All],[Line of Business Category]],4,LOB_ENROLL[[#All],[Year 2018 Member Months]])+SUMIF(LOB_ENROLL[[#All],[Line of Business Category]],8,LOB_ENROLL[[#All],[Year 2018 Member Months]]) -> 0 | D14: =IF(B14=C14,"Yes","No") -> Yes | E14: =ABS(B14-C14) -> 0 | F14: =SUM(C22:C23) -> 0 | G14: =SUMIF(LOB_ENROLL[[#All],[Line of Business Category]],1,LOB_ENROLL[[#All],[Year 2019 Member Months]])+SUMIF(LOB_ENROLL[[#All],[Line of Business Category]],2,LOB_ENROLL[[#All],[Year 2019 Member Months]])+SUMIF(LOB_ENROLL[[#All],[Line of Business Category]],3,LOB_ENROLL[[#All],[Year 2019 Member Months]])+SUMIF(LOB_ENROLL[[#All],[Line of Business Category]],4,LOB_ENROLL[[#All],[Year 2019 Member Months]])+SUMIF(LOB_ENROLL[[#All],[Line of Business Category]],8,LOB_ENROLL[[#All],[Year 2019 Member Months]]) -> 0 | H14: =IF(F14=G14,"Yes","No") -> Yes | I14: =ABS(F14-G14) -> 0 | J14: =SUM(D22:D23) -> 0 | K14: =SUMIF(LOB_ENROLL[[#All],[Line of Business Category]],1,LOB_ENROLL[[#All],[Year 2020 Member Months]])+SUMIF(LOB_ENROLL[[#All],[Line of Business Category]],2,LOB_ENROLL[[#All],[Year 2020 Member Months]])+SUMIF(LOB_ENROLL[[#All],[Line of Business Category]],3,LOB_ENROLL[[#All],[Year 2020 Member Months]])+SUMIF(LOB_ENROLL[[#All],[Line of Business Category]],4,LOB_ENROLL[[#All],[Year 2020 Member Months]])+SUMIF(LOB_ENROLL[[#All],[Line of Business Category]],8,LOB_ENROLL[[#All],[Year 2020 Member Months]]) -> 0 | L14: =IF(J14=K14,"Yes","No") -> Yes | M14: =ABS(J14-K14) -> 0 | N14: =SUM(E22:E23) -> 0 | O14: =SUMIF(LOB_ENROLL[[#All],[Line of Business Category]],1,LOB_ENROLL[[#All],[Year 2021 Member Months]])+SUMIF(LOB_ENROLL[[#All],[Line of Business Category]],2,LOB_ENROLL[[#All],[Year 2021 Member Months]])+SUMIF(LOB_ENROLL[[#All],[Line of Business Category]],3,LOB_ENROLL[[#All],[Year 2021 Member Months]])+SUMIF(LOB_ENROLL[[#All],[Line of Business Category]],4,LOB_ENROLL[[#All],[Year 2021 Member Months]])+SUMIF(LOB_ENROLL[[#All],[Line of Business Category]],8,LOB_ENROLL[[#All],[Year 2021 Member Months]]) -> 0 | P14: =IF(N14=O14,"Yes","No") -> Yes | Q14: =ABS(N14-O14) -> 0
A17: TME Member Month Details
A18: Insurance Category Code | B18: 2018 | C18: 2019 | D18: 2020 | E18: 2021
B19: Large Provider Entity Member Months | C19: Large Provider Entity Member Months | D19: Large Provider Entity Member Months | E19: Large Provider Entity Member Months
A20: 1 | B20: =SUMIFS(TME[[#All],[Member Months]],TME[[#All],[Reporting Year]],2018,TME[[#All],[Insurance Category Code]],A20) -> 0 | C20: =SUMIFS(TME[[#All],[Member Months]],TME[[#All],[Reporting Year]],2019,TME[[#All],[Insurance Category Code]],A20) -> 0 | D20: =SUMIFS(TME[[#All],[Member Months]],TME[[#All],[Reporting Year]],2020,TME[[#All],[Insurance Category Code]],A20) -> 0 | E20: =SUMIFS(TME[[#All],[Member Months]],TME[[#All],[Reporting Year]],2021,TME[[#All],[Insurance Category Code]],A20) -> 0
A21: 2 | B21: =SUMIFS(TME[[#All],[Member Months]],TME[[#All],[Reporting Year]],2018,TME[[#All],[Insurance Category Code]],A21) -> 0 | C21: =SUMIFS(TME[[#All],[Member Months]],TME[[#All],[Reporting Year]],2019,TME[[#All],[Insurance Category Code]],A21) -> 0 | D21: =SUMIFS(TME[[#All],[Member Months]],TME[[#All],[Reporting Year]],2020,TME[[#All],[Insurance Category Code]],A21) -> 0 | E21: =SUMIFS(TME[[#All],[Member Months]],TME[[#All],[Reporting Year]],2021,TME[[#All],[Insurance Category Code]],A21) -> 0
A22: 3 | B22: =SUMIFS(TME[[#All],[Member Months]],TME[[#All],[Reporting Year]],2018,TME[[#All],[Insurance Category Code]],A22) -> 0 | C22: =SUMIFS(TME[[#All],[Member Months]],TME[[#All],[Reporting Year]],2019,TME[[#All],[Insurance Category Code]],A22) -> 0 | D22: =SUMIFS(TME[[#All],[Member Months]],TME[[#All],[Reporting Year]],2020,TME[[#All],[Insurance Category Code]],A22) -> 0 | E22: =SUMIFS(TME[[#All],[Member Months]],TME[[#All],[Reporting Year]],2021,TME[[#All],[Insurance Category Code]],A22) -> 0
A23: 4 | B23: =SUMIFS(TME[[#All],[Member Months]],TME[[#All],[Reporting Year]],2018,TME[[#All],[Insurance Category Code]],A23) -> 0 | C23: =SUMIFS(TME[[#All],[Member Months]],TME[[#All],[Reporting Year]],2019,TME[[#All],[Insurance Category Code]],A23) -> 0 | D23: =SUMIFS(TME[[#All],[Member Months]],TME[[#All],[Reporting Year]],2020,TME[[#All],[Insurance Category Code]],A23) -> 0 | E23: =SUMIFS(TME[[#All],[Member Months]],TME[[#All],[Reporting Year]],2021,TME[[#All],[Insurance Category Code]],A23) -> 0
A24: 5 | B24: =SUMIFS(TME[[#All],[Member Months]],TME[[#All],[Reporting Year]],2018,TME[[#All],[Insurance Category Code]],A24) -> 0 | C24: =SUMIFS(TME[[#All],[Member Months]],TME[[#All],[Reporting Year]],2019,TME[[#All],[Insurance Category Code]],A24) -> 0 | D24: =SUMIFS(TME[[#All],[Member Months]],TME[[#All],[Reporting Year]],2020,TME[[#All],[Insurance Category Code]],A24) -> 0 | E24: =SUMIFS(TME[[#All],[Member Months]],TME[[#All],[Reporting Year]],2021,TME[[#All],[Insurance Category Code]],A24) -> 0
A25: 6 | B25: =SUMIFS(TME[[#All],[Member Months]],TME[[#All],[Reporting Year]],2018,TME[[#All],[Insurance Category Code]],A25) -> 0 | C25: =SUMIFS(TME[[#All],[Member Months]],TME[[#All],[Reporting Year]],2019,TME[[#All],[Insurance Category Code]],A25) -> 0 | D25: =SUMIFS(TME[[#All],[Member Months]],TME[[#All],[Reporting Year]],2020,TME[[#All],[Insurance Category Code]],A25) -> 0 | E25: =SUMIFS(TME[[#All],[Member Months]],TME[[#All],[Reporting Year]],2021,TME[[#All],[Insurance Category Code]],A25) -> 0
A28: Consistency of Total Claims and Member Months Across TME and SD tabs
A29: Red highlighting indicates claims and/or member months do not match across tabs.
A30: Category | B30: 2018 | J30: 2019 | R30: 2020 | Z30: 2021
B31: Claims | F31: Member Months | J31: Claims | N31: Member Months | R31: Claims | V31: Member Months | Z31: Claims | AD31: Member Months
B32: TME | C32: SD | D32: Consistent? | E32: Variation | F32: TME | G32: SD | H32: Consistent? | I32: Variation | J32: TME | K32: SD | L32: Consistent? | M32: Variation | N32: TME | O32: SD | P32: Consistent? | Q32: Variation | R32: TME | S32: SD | T32: Consistent? | U32: Variation | V32: TME | W32: SD | X32: Consistent? | Y32: Variation | Z32: TME | AA32: SD | AB32: Consistent? | AC32: Variation | AD32: TME | AE32: SD | AF32: Consistent? | AG32: Variation
A33: Total | B33: =SUMIFS(TME[[#All],[Total Non-Truncated Claims Spending]],TME[[#All],[Reporting Year]],2018) -> 0 | C33: {=SUMIFS(SD[[#All],[Total Truncated Claims Spending]],SD[[#All],[Reporting Year]],2018,SD[[#All],[Large Provider Entity Code]],Insurer_Code)} -> 0 | D33: =IF(B33=C33,"Yes","No") -> Yes | E33: =ABS(B33-C33) -> 0 | F33: =SUM(B20:B25) -> 0 | G33: {=SUMIFS(SD[[#All],[Member Months]],SD[[#All],[Reporting Year]],2018,SD[[#All],[Large Provider Entity Code]],Insurer_Code)} -> 0 | H33: =IF(F33=G33,"Yes","No") -> Yes | I33: =ABS(F33-G33) -> 0 | J33: =SUMIFS(TME[[#All],[Total Non-Truncated Claims Spending]],TME[[#All],[Reporting Year]],2019) -> 0 | K33: {=SUMIFS(SD[[#All],[Total Truncated Claims Spending]],SD[[#All],[Reporting Year]],2019,SD[[#All],[Large Provider Entity Code]],Insurer_Code)} -> 0 | L33: =IF(J33=K33,"Yes","No") -> Yes | M33: =ABS(J33-K33) -> 0 | N33: =SUM(C20:C25) -> 0 | O33: {=SUMIFS(SD[[#All],[Member Months]],SD[[#All],[Reporting Year]],2019,SD[[#All],[Large Provider Entity Code]],Insurer_Code)} -> 0 | P33: =IF(N33=O33,"Yes","No") -> Yes | Q33: =ABS(N33-O33) -> 0 | R33: =SUMIFS(TME[[#All],[Total Non-Truncated Claims Spending]],TME[[#All],[Reporting Year]],2020) -> 0 | S33: {=SUMIFS(SD[[#All],[Total Truncated Claims Spending]],SD[[#All],[Reporting Year]],2020,SD[[#All],[Large Provider Entity Code]],Insurer_Code)} -> 0 | T33: =IF(R33=S33,"Yes","No") -> Yes | U33: =ABS(R33-S33) -> 0 | V33: =SUM(D20:D25) -> 0 | W33: {=SUMIFS(SD[[#All],[Member Months]],SD[[#All],[Reporting Year]],2020,SD[[#All],[Large Provider Entity Code]],Insurer_Code)} -> 0 | X33: =IF(V33=W33,"Yes","No") -> Yes | Y33: =ABS(V33-W33) -> 0 | Z33: =SUMIFS(TME[[#All],[Total Non-Truncated Claims Spending]],TME[[#All],[Reporting Year]],2021) -> 0 | AA33: {=SUMIFS(SD[[#All],[Total Truncated Claims Spending]],SD[[#All],[Reporting Year]],2021,SD[[#All],[Large Provider Entity Code]],Insurer_Code)} -> 0 | AB33: =IF(Z33=AA33,"Yes","No") -> Yes | AC33: =ABS(Z33-AA33) -> 0 | AD33: =SUM(E20:E25) -> 0 | AE33: {=SUMIFS(SD[[#All],[Member Months]],SD[[#All],[Reporting Year]],2021,SD[[#All],[Large Provider Entity Code]],Insurer_Code)} -> 0 | AF33: =IF(AD33=AE33,"Yes","No") -> Yes | AG33: =ABS(AD33-AE33) -> 0
A34: Medicare | B34: =SUMIFS(TME[[#All],[Total Non-Truncated Claims Spending]],TME[[#All],[Reporting Year]],2018,TME[[#All],[Insurance Category Code]],1)+SUMIFS(TME[[#All],[Total Non-Truncated Claims Spending]],TME[[#All],[Reporting Year]],2018,TME[[#All],[Insurance Category Code]],5) -> 0 | C34: {=SUMIFS(SD[[#All],[Total Truncated Claims Spending]],SD[[#All],[Reporting Year]],2018,SD[[#All],[Large Provider Entity Code]],Insurer_Code,SD[[#All],[Market Code]],1)} -> 0 | D34: =IF(B34=C34,"Yes","No") -> Yes | E34: =ABS(B34-C34) -> 0 | F34: =SUM(B20,B24) -> 0 | G34: {=SUMIFS(SD[[#All],[Member Months]],SD[[#All],[Reporting Year]],2018,SD[[#All],[Large Provider Entity Code]],Insurer_Code,SD[[#All],[Market Code]],1)} -> 0 | H34: =IF(F34=G34,"Yes","No") -> Yes | I34: =ABS(F34-G34) -> 0 | J34: =SUMIFS(TME[[#All],[Total Non-Truncated Claims Spending]],TME[[#All],[Reporting Year]],2019,TME[[#All],[Insurance Category Code]],1)+SUMIFS(TME[[#All],[Total Non-Truncated Claims Spending]],TME[[#All],[Reporting Year]],2019,TME[[#All],[Insurance Category Code]],5) -> 0 | K34: {=SUMIFS(SD[[#All],[Total Truncated Claims Spending]],SD[[#All],[Reporting Year]],2019,SD[[#All],[Large Provider Entity Code]],Insurer_Code,SD[[#All],[Market Code]],1)} -> 0 | L34: =IF(J34=K34,"Yes","No") -> Yes | M34: =ABS(J34-K34) -> 0 | N34: =SUM(C20,C24) -> 0 | O34: {=SUMIFS(SD[[#All],[Member Months]],SD[[#All],[Reporting Year]],2019,SD[[#All],[Large Provider Entity Code]],Insurer_Code,SD[[#All],[Market Code]],1)} -> 0 | P34: =IF(N34=O34,"Yes","No") -> Yes | Q34: =ABS(N34-O34) -> 0 | R34: =SUMIFS(TME[[#All],[Total Non-Truncated Claims Spending]],TME[[#All],[Reporting Year]],2020,TME[[#All],[Insurance Category Code]],1)+SUMIFS(TME[[#All],[Total Non-Truncated Claims Spending]],TME[[#All],[Reporting Year]],2020,TME[[#All],[Insurance Category Code]],5) -> 0 | S34: {=SUMIFS(SD[[#All],[Total Truncated Claims Spending]],SD[[#All],[Reporting Year]],2020,SD[[#All],[Large Provider Entity Code]],Insurer_Code,SD[[#All],[Market Code]],1)} -> 0 | T34: =IF(R34=S34,"Yes","No") -> Yes | U34: =ABS(R34-S34) -> 0 | V34: =SUM(D20,D24) -> 0 | W34: {=SUMIFS(SD[[#All],[Member Months]],SD[[#All],[Reporting Year]],2020,SD[[#All],[Large Provider Entity Code]],Insurer_Code,SD[[#All],[Market Code]],1)} -> 0 | X34: =IF(V34=W34,"Yes","No") -> Yes | Y34: =ABS(V34-W34) -> 0 | Z34: =SUMIFS(TME[[#All],[Total Non-Truncated Claims Spending]],TME[[#All],[Reporting Year]],2021,TME[[#All],[Insurance Category Code]],1)+SUMIFS(TME[[#All],[Total Non-Truncated Claims Spending]],TME[[#All],[Reporting Year]],2021,TME[[#All],[Insurance Category Code]],5) -> 0 | AA34: {=SUMIFS(SD[[#All],[Total Truncated Claims Spending]],SD[[#All],[Reporting Year]],2021,SD[[#All],[Large Provider Entity Code]],Insurer_Code,SD[[#All],[Market Code]],1)} -> 0 | AB34: =IF(Z34=AA34,"Yes","No") -> Yes | AC34: =ABS(Z34-AA34) -> 0 | AD34: =SUM(E20,E25) -> 0 | AE34: {=SUMIFS(SD[[#All],[Member Months]],SD[[#All],[Reporting Year]],2021,SD[[#All],[Large Provider Entity Code]],Insurer_Code,SD[[#All],[Market Code]],1)} -> 0 | AF34: =IF(AD34=AE34,"Yes","No") -> Yes | AG34: =ABS(AD34-AE34) -> 0
A35: Medicaid | B35: =SUMIFS(TME[[#All],[Total Non-Truncated Claims Spending]],TME[[#All],[Reporting Year]],2018,TME[[#All],[Insurance Category Code]],2)+SUMIFS(TME[[#All],[Total Non-Truncated Claims Spending]],TME[[#All],[Reporting Year]],2018,TME[[#All],[Insurance Category Code]],6) -> 0 | C35: {=SUMIFS(SD[[#All],[Total Truncated Claims Spending]],SD[[#All],[Reporting Year]],2018,SD[[#All],[Large Provider Entity Code]],Insurer_Code,SD[[#All],[Market Code]],2)} -> 0 | D35: =IF(B35=C35,"Yes","No") -> Yes | E35: =ABS(B35-C35) -> 0 | F35: =SUM(B21,B25) -> 0 | G35: {=SUMIFS(SD[[#All],[Member Months]],SD[[#All],[Reporting Year]],2018,SD[[#All],[Large Provider Entity Code]],Insurer_Code,SD[[#All],[Market Code]],2)} -> 0 | H35: =IF(F35=G35,"Yes","No") -> Yes | I35: =ABS(F35-G35) -> 0 | J35: =SUMIFS(TME[[#All],[Total Non-Truncated Claims Spending]],TME[[#All],[Reporting Year]],2019,TME[[#All],[Insurance Category Code]],2)+SUMIFS(TME[[#All],[Total Non-Truncated Claims Spending]],TME[[#All],[Reporting Year]],2019,TME[[#All],[Insurance Category Code]],6) -> 0 | K35: {=SUMIFS(SD[[#All],[Total Truncated Claims Spending]],SD[[#All],[Reporting Year]],2019,SD[[#All],[Large Provider Entity Code]],Insurer_Code,SD[[#All],[Market Code]],2)} -> 0 | L35: =IF(J35=K35,"Yes","No") -> Yes | M35: =ABS(J35-K35) -> 0 | N35: =SUM(C21,C25) -> 0 | O35: {=SUMIFS(SD[[#All],[Member Months]],SD[[#All],[Reporting Year]],2019,SD[[#All],[Large Provider Entity Code]],Insurer_Code,SD[[#All],[Market Code]],2)} -> 0 | P35: =IF(N35=O35,"Yes","No") -> Yes | Q35: =ABS(N35-O35) -> 0 | R35: =SUMIFS(TME[[#All],[Total Non-Truncated Claims Spending]],TME[[#All],[Reporting Year]],2020,TME[[#All],[Insurance Category Code]],2)+SUMIFS(TME[[#All],[Total Non-Truncated Claims Spending]],TME[[#All],[Reporting Year]],2020,TME[[#All],[Insurance Category Code]],6) -> 0 | S35: {=SUMIFS(SD[[#All],[Total Truncated Claims Spending]],SD[[#All],[Reporting Year]],2020,SD[[#All],[Large Provider Entity Code]],Insurer_Code,SD[[#All],[Market Code]],2)} -> 0 | T35: =IF(R35=S35,"Yes","No") -> Yes | U35: =ABS(R35-S35) -> 0 | V35: =SUM(D21,D25) -> 0 | W35: {=SUMIFS(SD[[#All],[Member Months]],SD[[#All],[Reporting Year]],2020,SD[[#All],[Large Provider Entity Code]],Insurer_Code,SD[[#All],[Market Code]],2)} -> 0 | X35: =IF(V35=W35,"Yes","No") -> Yes | Y35: =ABS(V35-W35) -> 0 | Z35: =SUMIFS(TME[[#All],[Total Non-Truncated Claims Spending]],TME[[#All],[Reporting Year]],2021,TME[[#All],[Insurance Category Code]],2)+SUMIFS(TME[[#All],[Total Non-Truncated Claims Spending]],TME[[#All],[Reporting Year]],2021,TME[[#All],[Insurance Category Code]],6) -> 0 | AA35: {=SUMIFS(SD[[#All],[Total Truncated Claims Spending]],SD[[#All],[Reporting Year]],2021,SD[[#All],[Large Provider Entity Code]],Insurer_Code,SD[[#All],[Market Code]],2)} -> 0 | AB35: =IF(Z35=AA35,"Yes","No") -> Yes | AC35: =ABS(Z35-AA35) -> 0 | AD35: =SUM(E21,E25) -> 0 | AE35: {=SUMIFS(SD[[#All],[Member Months]],SD[[#All],[Reporting Year]],2021,SD[[#All],[Large Provider Entity Code]],Insurer_Code,SD[[#All],[Market Code]],2)} -> 0 | AF35: =IF(AD35=AE35,"Yes","No") -> Yes | AG35: =ABS(AD35-AE35) -> 0
A36: Commercial | B36: =SUMIFS(TME[[#All],[Total Non-Truncated Claims Spending]],TME[[#All],[Reporting Year]],2018,TME[[#All],[Insurance Category Code]],3)+SUMIFS(TME[[#All],[Total Non-Truncated Claims Spending]],TME[[#All],[Reporting Year]],2018,TME[[#All],[Insurance Category Code]],4) -> 0 | C36: {=SUMIFS(SD[[#All],[Total Truncated Claims Spending]],SD[[#All],[Reporting Year]],2018,SD[[#All],[Large Provider Entity Code]],Insurer_Code,SD[[#All],[Market Code]],3)} -> 0 | D36: =IF(B36=C36,"Yes","No") -> Yes | E36: =ABS(B36-C36) -> 0 | F36: =SUM(B22:B23) -> 0 | G36: {=SUMIFS(SD[[#All],[Member Months]],SD[[#All],[Reporting Year]],2018,SD[[#All],[Large Provider Entity Code]],Insurer_Code,SD[[#All],[Market Code]],3)} -> 0 | H36: =IF(F36=G36,"Yes","No") -> Yes | I36: =ABS(F36-G36) -> 0 | J36: =SUMIFS(TME[[#All],[Total Non-Truncated Claims Spending]],TME[[#All],[Reporting Year]],2019,TME[[#All],[Insurance Category Code]],3)+SUMIFS(TME[[#All],[Total Non-Truncated Claims Spending]],TME[[#All],[Reporting Year]],2019,TME[[#All],[Insurance Category Code]],4) -> 0 | K36: {=SUMIFS(SD[[#All],[Total Truncated Claims Spending]],SD[[#All],[Reporting Year]],2019,SD[[#All],[Large Provider Entity Code]],Insurer_Code,SD[[#All],[Market Code]],3)} -> 0 | L36: =IF(J36=K36,"Yes","No") -> Yes | M36: =ABS(J36-K36) -> 0 | N36: =SUM(C22:C23) -> 0 | O36: {=SUMIFS(SD[[#All],[Member Months]],SD[[#All],[Reporting Year]],2019,SD[[#All],[Large Provider Entity Code]],Insurer_Code,SD[[#All],[Market Code]],3)} -> 0 | P36: =IF(N36=O36,"Yes","No") -> Yes | Q36: =ABS(N36-O36) -> 0 | R36: =SUMIFS(TME[[#All],[Total Non-Truncated Claims Spending]],TME[[#All],[Reporting Year]],2020,TME[[#All],[Insurance Category Code]],3)+SUMIFS(TME[[#All],[Total Non-Truncated Claims Spending]],TME[[#All],[Reporting Year]],2020,TME[[#All],[Insurance Category Code]],4) -> 0 | S36: {=SUMIFS(SD[[#All],[Total Truncated Claims Spending]],SD[[#All],[Reporting Year]],2020,SD[[#All],[Large Provider Entity Code]],Insurer_Code,SD[[#All],[Market Code]],3)} -> 0 | T36: =IF(R36=S36,"Yes","No") -> Yes | U36: =ABS(R36-S36) -> 0 | V36: =SUM(D22:D23) -> 0 | W36: {=SUMIFS(SD[[#All],[Member Months]],SD[[#All],[Reporting Year]],2020,SD[[#All],[Large Provider Entity Code]],Insurer_Code,SD[[#All],[Market Code]],3)} -> 0 | X36: =IF(V36=W36,"Yes","No") -> Yes | Y36: =ABS(V36-W36) -> 0 | Z36: =SUMIFS(TME[[#All],[Total Non-Truncated Claims Spending]],TME[[#All],[Reporting Year]],2021,TME[[#All],[Insurance Category Code]],3)+SUMIFS(TME[[#All],[Total Non-Truncated Claims Spending]],TME[[#All],[Reporting Year]],2021,TME[[#All],[Insurance Category Code]],4) -> 0 | AA36: {=SUMIFS(SD[[#All],[Total Truncated Claims Spending]],SD[[#All],[Reporting Year]],2021,SD[[#All],[Large Provider Entity Code]],Insurer_Code,SD[[#All],[Market Code]],3)} -> 0 | AB36: =IF(Z36=AA36,"Yes","No") -> Yes | AC36: =ABS(Z36-AA36) -> 0 | AD36: =SUM(E22:E23) -> 0 | AE36: {=SUMIFS(SD[[#All],[Member Months]],SD[[#All],[Reporting Year]],2021,SD[[#All],[Large Provider Entity Code]],Insurer_Code,SD[[#All],[Market Code]],3)} -> 0 | AF36: =IF(AD36=AE36,"Yes","No") -> Yes | AG36: =ABS(AD36-AE36) -> 0
A39: Truncation Validation
A40: Red highlighting indicates the count of members with claims truncated is greater than the total members and/or the truncated claims expenses are greater than total claims expenses.
A41: Insurance Category Code | B41: 2018 | H41: 2019 | N41: 2020 | T41: 2021
B42: Total Members | C42: Count of Members with Claims Truncated | D42: Total Members greater than Count of Members with Claims Truncated? | E42: Total Claims Expenses | F42: Truncated Claims Spending | G42: Total Claims Expenses greater than Truncated Claims? | H42: Total Members | I42: Count of Members with Claims Truncated | J42: Total Members less than Count of Members with Claims Truncated? | K42: Total Claims Expenses | L42: Truncated Claims Spending | M42: Total Claims Expenses greater than Truncated Claims? | N42: Total Members | O42: Count of Members with Claims Truncated | P42: Total Members less than Count of Members with Claims Truncated? | Q42: Total Claims Expenses | R42: Truncated Claims Spending | S42: Total Claims Expenses greater than Truncated Claims? | T42: Total Members | U42: Count of Members with Claims Truncated | V42: Total Members less than Count of Members with Claims Truncated? | W42: Total Claims Expenses | X42: Truncated Claims Spending | Y42: Total Claims Expenses greater than Truncated Claims?
A43: 1 | B43: =B20/12 -> 0 | C43: =SUMIFS(TME[[#All],[Count of Members with Claims Truncated]],TME[[#All],[Reporting Year]],2018,TME[[#All],[Insurance Category Code]],A43) -> 0 | D43: {=_xlfn.IFS(B43=0,"NA",B43>C43,"Yes",B43<C43,"No")} -> NA | E43: =SUMIFS(TME[[#All],[Total Non-Truncated Claims Spending]],TME[[#All],[Reporting Year]],2018,TME[[#All],[Insurance Category Code]],A43) -> 0 | F43: =SUMIFS(TME[[#All],[Total Truncated Claims Spending]],TME[[#All],[Reporting Year]],2018,TME[[#All],[Insurance Category Code]],A43) -> 0 | G43: {=_xlfn.IFS(E43=0,"NA",E43>F43,"Yes",E43<F43,"No",E43=F43,"Equal")} -> NA | H43: =C20/12 -> 0 | I43: =SUMIFS(TME[[#All],[Count of Members with Claims Truncated]],TME[[#All],[Reporting Year]],2019,TME[[#All],[Insurance Category Code]],A43) -> 0 | J43: {=_xlfn.IFS(H43=0,"NA",H43>I43,"Yes",H43<I43,"No")} -> NA | K43: =SUMIFS(TME[[#All],[Total Non-Truncated Claims Spending]],TME[[#All],[Reporting Year]],2019,TME[[#All],[Insurance Category Code]],A43) -> 0 | L43: =SUMIFS(TME[[#All],[Total Truncated Claims Spending]],TME[[#All],[Reporting Year]],2019,TME[[#All],[Insurance Category Code]],A43) -> 0 | M43: {=_xlfn.IFS(K43=0,"NA",K43>L43,"Yes",K43<L43,"No",K43=L43,"Equal")} -> NA | N43: =D20/12 -> 0 | O43: =SUMIFS(TME[[#All],[Count of Members with Claims Truncated]],TME[[#All],[Reporting Year]],2020,TME[[#All],[Insurance Category Code]],A43) -> 0 | P43: {=_xlfn.IFS(N43=0,"NA",N43>O43,"Yes",N43<O43,"No")} -> NA | Q43: =SUMIFS(TME[[#All],[Total Non-Truncated Claims Spending]],TME[[#All],[Reporting Year]],2020,TME[[#All],[Insurance Category Code]],A43) -> 0 | R43: =SUMIFS(TME[[#All],[Total Truncated Claims Spending]],TME[[#All],[Reporting Year]],2020,TME[[#All],[Insurance Category Code]],A43) -> 0 | S43: {=_xlfn.IFS(Q43=0,"NA",Q43>R43,"Yes",Q43<R43,"No",Q43=R43,"Equal")} -> NA | T43: =E20/12 -> 0 | U43: =SUMIFS(TME[[#All],[Count of Members with Claims Truncated]],TME[[#All],[Reporting Year]],2021,TME[[#All],[Insurance Category Code]],A43) -> 0 | V43: {=_xlfn.IFS(T43=0,"NA",T43>U43,"Yes",T43<U43,"No")} -> NA | W43: =SUMIFS(TME[[#All],[Total Non-Truncated Claims Spending]],TME[[#All],[Reporting Year]],2021,TME[[#All],[Insurance Category Code]],A43) -> 0 | X43: =SUMIFS(TME[[#All],[Total Truncated Claims Spending]],TME[[#All],[Reporting Year]],2021,TME[[#All],[Insurance Category Code]],A43) -> 0 | Y43: {=_xlfn.IFS(W43=0,"NA",W43>X43,"Yes",W43<X43,"No",W43=X43,"Equal")} -> NA
A44: 2 | B44: =B21/12 -> 0 | C44: =SUMIFS(TME[[#All],[Count of Members with Claims Truncated]],TME[[#All],[Reporting Year]],2018,TME[[#All],[Insurance Category Code]],A44) -> 0 | D44: {=_xlfn.IFS(B44=0,"NA",B44>C44,"Yes",B44<C44,"No")} -> NA | E44: =SUMIFS(TME[[#All],[Total Non-Truncated Claims Spending]],TME[[#All],[Reporting Year]],2018,TME[[#All],[Insurance Category Code]],A44) -> 0 | F44: =SUMIFS(TME[[#All],[Total Truncated Claims Spending]],TME[[#All],[Reporting Year]],2018,TME[[#All],[Insurance Category Code]],A44) -> 0 | G44: {=_xlfn.IFS(E44=0,"NA",E44>F44,"Yes",E44<F44,"No",E44=F44,"Equal")} -> NA | H44: =C21/12 -> 0 | I44: =SUMIFS(TME[[#All],[Count of Members with Claims Truncated]],TME[[#All],[Reporting Year]],2019,TME[[#All],[Insurance Category Code]],A44) -> 0 | J44: {=_xlfn.IFS(H44=0,"NA",H44>I44,"Yes",H44<I44,"No")} -> NA | K44: =SUMIFS(TME[[#All],[Total Non-Truncated Claims Spending]],TME[[#All],[Reporting Year]],2019,TME[[#All],[Insurance Category Code]],A44) -> 0 | L44: =SUMIFS(TME[[#All],[Total Truncated Claims Spending]],TME[[#All],[Reporting Year]],2019,TME[[#All],[Insurance Category Code]],A44) -> 0 | M44: {=_xlfn.IFS(K44=0,"NA",K44>L44,"Yes",K44<L44,"No",K44=L44,"Equal")} -> NA | N44: =D21/12 -> 0 | O44: =SUMIFS(TME[[#All],[Count of Members with Claims Truncated]],TME[[#All],[Reporting Year]],2020,TME[[#All],[Insurance Category Code]],A44) -> 0 | P44: {=_xlfn.IFS(N44=0,"NA",N44>O44,"Yes",N44<O44,"No")} -> NA | Q44: =SUMIFS(TME[[#All],[Total Non-Truncated Claims Spending]],TME[[#All],[Reporting Year]],2020,TME[[#All],[Insurance Category Code]],A44) -> 0 | R44: =SUMIFS(TME[[#All],[Total Truncated Claims Spending]],TME[[#All],[Reporting Year]],2020,TME[[#All],[Insurance Category Code]],A44) -> 0 | S44: {=_xlfn.IFS(Q44=0,"NA",Q44>R44,"Yes",Q44<R44,"No",Q44=R44,"Equal")} -> NA | T44: =E21/12 -> 0 | U44: =SUMIFS(TME[[#All],[Count of Members with Claims Truncated]],TME[[#All],[Reporting Year]],2021,TME[[#All],[Insurance Category Code]],A44) -> 0 | V44: {=_xlfn.IFS(T44=0,"NA",T44>U44,"Yes",T44<U44,"No")} -> NA | W44: =SUMIFS(TME[[#All],[Total Non-Truncated Claims Spending]],TME[[#All],[Reporting Year]],2021,TME[[#All],[Insurance Category Code]],A44) -> 0 | X44: =SUMIFS(TME[[#All],[Total Truncated Claims Spending]],TME[[#All],[Reporting Year]],2021,TME[[#All],[Insurance Category Code]],A44) -> 0 | Y44: {=_xlfn.IFS(W44=0,"NA",W44>X44,"Yes",W44<X44,"No",W44=X44,"Equal")} -> NA
A45: 3 | B45: =B22/12 -> 0 | C45: =SUMIFS(TME[[#All],[Count of Members with Claims Truncated]],TME[[#All],[Reporting Year]],2018,TME[[#All],[Insurance Category Code]],A45) -> 0 | D45: {=_xlfn.IFS(B45=0,"NA",B45>C45,"Yes",B45<C45,"No")} -> NA | E45: =SUMIFS(TME[[#All],[Total Non-Truncated Claims Spending]],TME[[#All],[Reporting Year]],2018,TME[[#All],[Insurance Category Code]],A45) -> 0 | F45: =SUMIFS(TME[[#All],[Total Truncated Claims Spending]],TME[[#All],[Reporting Year]],2018,TME[[#All],[Insurance Category Code]],A45) -> 0 | G45: {=_xlfn.IFS(E45=0,"NA",E45>F45,"Yes",E45<F45,"No",E45=F45,"Equal")} -> NA | H45: =C22/12 -> 0 | I45: =SUMIFS(TME[[#All],[Count of Members with Claims Truncated]],TME[[#All],[Reporting Year]],2019,TME[[#All],[Insurance Category Code]],A45) -> 0 | J45: {=_xlfn.IFS(H45=0,"NA",H45>I45,"Yes",H45<I45,"No")} -> NA | K45: =SUMIFS(TME[[#All],[Total Non-Truncated Claims Spending]],TME[[#All],[Reporting Year]],2019,TME[[#All],[Insurance Category Code]],A45) -> 0 | L45: =SUMIFS(TME[[#All],[Total Truncated Claims Spending]],TME[[#All],[Reporting Year]],2019,TME[[#All],[Insurance Category Code]],A45) -> 0 | M45: {=_xlfn.IFS(K45=0,"NA",K45>L45,"Yes",K45<L45,"No",K45=L45,"Equal")} -> NA | N45: =D22/12 -> 0 | O45: =SUMIFS(TME[[#All],[Count of Members with Claims Truncated]],TME[[#All],[Reporting Year]],2020,TME[[#All],[Insurance Category Code]],A45) -> 0 | P45: {=_xlfn.IFS(N45=0,"NA",N45>O45,"Yes",N45<O45,"No")} -> NA | Q45: =SUMIFS(TME[[#All],[Total Non-Truncated Claims Spending]],TME[[#All],[Reporting Year]],2020,TME[[#All],[Insurance Category Code]],A45) -> 0 | R45: =SUMIFS(TME[[#All],[Total Truncated Claims Spending]],TME[[#All],[Reporting Year]],2020,TME[[#All],[Insurance Category Code]],A45) -> 0 | S45: {=_xlfn.IFS(Q45=0,"NA",Q45>R45,"Yes",Q45<R45,"No",Q45=R45,"Equal")} -> NA | T45: =E22/12 -> 0 | U45: =SUMIFS(TME[[#All],[Count of Members with Claims Truncated]],TME[[#All],[Reporting Year]],2021,TME[[#All],[Insurance Category Code]],A45) -> 0 | V45: {=_xlfn.IFS(T45=0,"NA",T45>U45,"Yes",T45<U45,"No")} -> NA | W45: =SUMIFS(TME[[#All],[Total Non-Truncated Claims Spending]],TME[[#All],[Reporting Year]],2021,TME[[#All],[Insurance Category Code]],A45) -> 0 | X45: =SUMIFS(TME[[#All],[Total Truncated Claims Spending]],TME[[#All],[Reporting Year]],2021,TME[[#All],[Insurance Category Code]],A45) -> 0 | Y45: {=_xlfn.IFS(W45=0,"NA",W45>X45,"Yes",W45<X45,"No",W45=X45,"Equal")} -> NA
A46: 4 | B46: =B23/12 -> 0 | C46: =SUMIFS(TME[[#All],[Count of Members with Claims Truncated]],TME[[#All],[Reporting Year]],2018,TME[[#All],[Insurance Category Code]],A46) -> 0 | D46: {=_xlfn.IFS(B46=0,"NA",B46>C46,"Yes",B46<C46,"No")} -> NA | E46: =SUMIFS(TME[[#All],[Total Non-Truncated Claims Spending]],TME[[#All],[Reporting Year]],2018,TME[[#All],[Insurance Category Code]],A46) -> 0 | F46: =SUMIFS(TME[[#All],[Total Truncated Claims Spending]],TME[[#All],[Reporting Year]],2018,TME[[#All],[Insurance Category Code]],A46) -> 0 | G46: {=_xlfn.IFS(E46=0,"NA",E46>F46,"Yes",E46<F46,"No",E46=F46,"Equal")} -> NA | H46: =C23/12 -> 0 | I46: =SUMIFS(TME[[#All],[Count of Members with Claims Truncated]],TME[[#All],[Reporting Year]],2019,TME[[#All],[Insurance Category Code]],A46) -> 0 | J46: {=_xlfn.IFS(H46=0,"NA",H46>I46,"Yes",H46<I46,"No")} -> NA | K46: =SUMIFS(TME[[#All],[Total Non-Truncated Claims Spending]],TME[[#All],[Reporting Year]],2019,TME[[#All],[Insurance Category Code]],A46) -> 0 | L46: =SUMIFS(TME[[#All],[Total Truncated Claims Spending]],TME[[#All],[Reporting Year]],2019,TME[[#All],[Insurance Category Code]],A46) -> 0 | M46: {=_xlfn.IFS(K46=0,"NA",K46>L46,"Yes",K46<L46,"No",K46=L46,"Equal")} -> NA | N46: =D23/12 -> 0 | O46: =SUMIFS(TME[[#All],[Count of Members with Claims Truncated]],TME[[#All],[Reporting Year]],2020,TME[[#All],[Insurance Category Code]],A46) -> 0 | P46: {=_xlfn.IFS(N46=0,"NA",N46>O46,"Yes",N46<O46,"No")} -> NA | Q46: =SUMIFS(TME[[#All],[Total Non-Truncated Claims Spending]],TME[[#All],[Reporting Year]],2020,TME[[#All],[Insurance Category Code]],A46) -> 0 | R46: =SUMIFS(TME[[#All],[Total Truncated Claims Spending]],TME[[#All],[Reporting Year]],2020,TME[[#All],[Insurance Category Code]],A46) -> 0 | S46: {=_xlfn.IFS(Q46=0,"NA",Q46>R46,"Yes",Q46<R46,"No",Q46=R46,"Equal")} -> NA | T46: =E23/12 -> 0 | U46: =SUMIFS(TME[[#All],[Count of Members with Claims Truncated]],TME[[#All],[Reporting Year]],2021,TME[[#All],[Insurance Category Code]],A46) -> 0 | V46: {=_xlfn.IFS(T46=0,"NA",T46>U46,"Yes",T46<U46,"No")} -> NA | W46: =SUMIFS(TME[[#All],[Total Non-Truncated Claims Spending]],TME[[#All],[Reporting Year]],2021,TME[[#All],[Insurance Category Code]],A46) -> 0 | X46: =SUMIFS(TME[[#All],[Total Truncated Claims Spending]],TME[[#All],[Reporting Year]],2021,TME[[#All],[Insurance Category Code]],A46) -> 0 | Y46: {=_xlfn.IFS(W46=0,"NA",W46>X46,"Yes",W46<X46,"No",W46=X46,"Equal")} -> NA
A47: 5 | B47: =B24/12 -> 0 | C47: =SUMIFS(TME[[#All],[Count of Members with Claims Truncated]],TME[[#All],[Reporting Year]],2018,TME[[#All],[Insurance Category Code]],A47) -> 0 | D47: {=_xlfn.IFS(B47=0,"NA",B47>C47,"Yes",B47<C47,"No")} -> NA | E47: =SUMIFS(TME[[#All],[Total Non-Truncated Claims Spending]],TME[[#All],[Reporting Year]],2018,TME[[#All],[Insurance Category Code]],A47) -> 0 | F47: =SUMIFS(TME[[#All],[Total Truncated Claims Spending]],TME[[#All],[Reporting Year]],2018,TME[[#All],[Insurance Category Code]],A47) -> 0 | G47: {=_xlfn.IFS(E47=0,"NA",E47>F47,"Yes",E47<F47,"No",E47=F47,"Equal")} -> NA | H47: =C24/12 -> 0 | I47: =SUMIFS(TME[[#All],[Count of Members with Claims Truncated]],TME[[#All],[Reporting Year]],2019,TME[[#All],[Insurance Category Code]],A47) -> 0 | J47: {=_xlfn.IFS(H47=0,"NA",H47>I47,"Yes",H47<I47,"No")} -> NA | K47: =SUMIFS(TME[[#All],[Total Non-Truncated Claims Spending]],TME[[#All],[Reporting Year]],2019,TME[[#All],[Insurance Category Code]],A47) -> 0 | L47: =SUMIFS(TME[[#All],[Total Truncated Claims Spending]],TME[[#All],[Reporting Year]],2019,TME[[#All],[Insurance Category Code]],A47) -> 0 | M47: {=_xlfn.IFS(K47=0,"NA",K47>L47,"Yes",K47<L47,"No",K47=L47,"Equal")} -> NA | N47: =D24/12 -> 0 | O47: =SUMIFS(TME[[#All],[Count of Members with Claims Truncated]],TME[[#All],[Reporting Year]],2020,TME[[#All],[Insurance Category Code]],A47) -> 0 | P47: {=_xlfn.IFS(N47=0,"NA",N47>O47,"Yes",N47<O47,"No")} -> NA | Q47: =SUMIFS(TME[[#All],[Total Non-Truncated Claims Spending]],TME[[#All],[Reporting Year]],2020,TME[[#All],[Insurance Category Code]],A47) -> 0 | R47: =SUMIFS(TME[[#All],[Total Truncated Claims Spending]],TME[[#All],[Reporting Year]],2020,TME[[#All],[Insurance Category Code]],A47) -> 0 | S47: {=_xlfn.IFS(Q47=0,"NA",Q47>R47,"Yes",Q47<R47,"No",Q47=R47,"Equal")} -> NA | T47: =E24/12 -> 0 | U47: =SUMIFS(TME[[#All],[Count of Members with Claims Truncated]],TME[[#All],[Reporting Year]],2021,TME[[#All],[Insurance Category Code]],A47) -> 0 | V47: {=_xlfn.IFS(T47=0,"NA",T47>U47,"Yes",T47<U47,"No")} -> NA | W47: =SUMIFS(TME[[#All],[Total Non-Truncated Claims Spending]],TME[[#All],[Reporting Year]],2021,TME[[#All],[Insurance Category Code]],A47) -> 0 | X47: =SUMIFS(TME[[#All],[Total Truncated Claims Spending]],TME[[#All],[Reporting Year]],2021,TME[[#All],[Insurance Category Code]],A47) -> 0 | Y47: {=_xlfn.IFS(W47=0,"NA",W47>X47,"Yes",W47<X47,"No",W47=X47,"Equal")} -> NA
A48: 6 | B48: =B25/12 -> 0 | C48: =SUMIFS(TME[[#All],[Count of Members with Claims Truncated]],TME[[#All],[Reporting Year]],2018,TME[[#All],[Insurance Category Code]],A48) -> 0 | D48: {=_xlfn.IFS(B48=0,"NA",B48>C48,"Yes",B48<C48,"No")} -> NA | E48: =SUMIFS(TME[[#All],[Total Non-Truncated Claims Spending]],TME[[#All],[Reporting Year]],2018,TME[[#All],[Insurance Category Code]],A48) -> 0 | F48: =SUMIFS(TME[[#All],[Total Truncated Claims Spending]],TME[[#All],[Reporting Year]],2018,TME[[#All],[Insurance Category Code]],A48) -> 0 | G48: {=_xlfn.IFS(E48=0,"NA",E48>F48,"Yes",E48<F48,"No",E48=F48,"Equal")} -> NA | H48: =C25/12 -> 0 | I48: =SUMIFS(TME[[#All],[Count of Members with Claims Truncated]],TME[[#All],[Reporting Year]],2019,TME[[#All],[Insurance Category Code]],A48) -> 0 | J48: {=_xlfn.IFS(H48=0,"NA",H48>I48,"Yes",H48<I48,"No")} -> NA | K48: =SUMIFS(TME[[#All],[Total Non-Truncated Claims Spending]],TME[[#All],[Reporting Year]],2019,TME[[#All],[Insurance Category Code]],A48) -> 0 | L48: =SUMIFS(TME[[#All],[Total Truncated Claims Spending]],TME[[#All],[Reporting Year]],2019,TME[[#All],[Insurance Category Code]],A48) -> 0 | M48: {=_xlfn.IFS(K48=0,"NA",K48>L48,"Yes",K48<L48,"No",K48=L48,"Equal")} -> NA | N48: =D25/12 -> 0 | O48: =SUMIFS(TME[[#All],[Count of Members with Claims Truncated]],TME[[#All],[Reporting Year]],2020,TME[[#All],[Insurance Category Code]],A48) -> 0 | P48: {=_xlfn.IFS(N48=0,"NA",N48>O48,"Yes",N48<O48,"No")} -> NA | Q48: =SUMIFS(TME[[#All],[Total Non-Truncated Claims Spending]],TME[[#All],[Reporting Year]],2020,TME[[#All],[Insurance Category Code]],A48) -> 0 | R48: =SUMIFS(TME[[#All],[Total Truncated Claims Spending]],TME[[#All],[Reporting Year]],2020,TME[[#All],[Insurance Category Code]],A48) -> 0 | S48: {=_xlfn.IFS(Q48=0,"NA",Q48>R48,"Yes",Q48<R48,"No",Q48=R48,"Equal")} -> NA | T48: =E25/12 -> 0 | U48: =SUMIFS(TME[[#All],[Count of Members with Claims Truncated]],TME[[#All],[Reporting Year]],2021,TME[[#All],[Insurance Category Code]],A48) -> 0 | V48: {=_xlfn.IFS(T48=0,"NA",T48>U48,"Yes",T48<U48,"No")} -> NA | W48: =SUMIFS(TME[[#All],[Total Non-Truncated Claims Spending]],TME[[#All],[Reporting Year]],2021,TME[[#All],[Insurance Category Code]],A48) -> 0 | X48: =SUMIFS(TME[[#All],[Total Truncated Claims Spending]],TME[[#All],[Reporting Year]],2021,TME[[#All],[Insurance Category Code]],A48) -> 0 | Y48: {=_xlfn.IFS(W48=0,"NA",W48>X48,"Yes",W48<X48,"No",W48=X48,"Equal")} -> NA
...

Sheet Validation by Market
B2: Validation by Market
B3: This tab uses the data submitted in the TME and RX_REBATE tabs to calculate member month and per member per month (PMPM) spend and trend by market and spending category. Please review the data in this tab prior to submission to ensure that you are comfortable with the 2018, 2019, 2020, and 2021 PMPM values and trends reflected in the tables below.
B4: 2018-2019
B6: Table 1: Member Months by Line of Business
B7: Line of Business | C7: 2018 | D7: 2019 | E7: Trend
B8: Commercial - Total | C8: =SUM(C9:C10) -> 0 | D8: =SUM(D9:D10) -> 0 | E8: =IFERROR(Table1[[#This Row],[2019]]/Table1[[#This Row],[2018]]-1,"NA") -> NA
B9: Commercial - Full Claims | C9: =SUMIFS(TME[[#All],[Member Months]],TME[[#All],[Reporting Year]],Table1[[#Headers],[2018]],TME[[#All],[Insurance Category Code]],3) -> 0 | D9: =SUMIFS(TME[[#All],[Member Months]],TME[[#All],[Reporting Year]],Table1[[#Headers],[2019]],TME[[#All],[Insurance Category Code]],3) -> 0 | E9: =IFERROR(Table1[[#This Row],[2019]]/Table1[[#This Row],[2018]]-1,"NA") -> NA
B10: Commercial - Partial Claims | C10: =SUMIFS(TME[[#All],[Member Months]],TME[[#All],[Reporting Year]],Table1[[#Headers],[2018]],TME[[#All],[Insurance Category Code]],4) -> 0 | D10: =SUMIFS(TME[[#All],[Member Months]],TME[[#All],[Reporting Year]],Table1[[#Headers],[2019]],TME[[#All],[Insurance Category Code]],4) -> 0 | E10: =IFERROR(Table1[[#This Row],[2019]]/Table1[[#This Row],[2018]]-1,"NA") -> NA
B11: Medicare - Total | C11: =SUM(C12:C13) -> 0 | D11: =SUM(D12:D13) -> 0 | E11: =IFERROR(Table1[[#This Row],[2019]]/Table1[[#This Row],[2018]]-1,"NA") -> NA
B12: Medicare Managed Care | C12: =SUMIFS(TME[[#All],[Member Months]],TME[[#All],[Reporting Year]],Table1[[#Headers],[2018]],TME[[#All],[Insurance Category Code]],1) -> 0 | D12: =SUMIFS(TME[[#All],[Member Months]],TME[[#All],[Reporting Year]],Table1[[#Headers],[2019]],TME[[#All],[Insurance Category Code]],1) -> 0 | E12: =IFERROR(Table1[[#This Row],[2019]]/Table1[[#This Row],[2018]]-1,"NA") -> NA
B13: Medicare Expenditures for Medicare/Medicaid Dual Eligibles | C13: =SUMIFS(TME[[#All],[Member Months]],TME[[#All],[Reporting Year]],Table1[[#Headers],[2018]],TME[[#All],[Insurance Category Code]],5) -> 0 | D13: =SUMIFS(TME[[#All],[Member Months]],TME[[#All],[Reporting Year]],Table1[[#Headers],[2019]],TME[[#All],[Insurance Category Code]],5) -> 0 | E13: =IFERROR(Table1[[#This Row],[2019]]/Table1[[#This Row],[2018]]-1,"NA") -> NA
B14: Medicaid - Total | C14: =SUM(C15:C16) -> 0 | D14: =SUM(D15:D16) -> 0 | E14: =IFERROR(Table1[[#This Row],[2019]]/Table1[[#This Row],[2018]]-1,"NA") -> NA
B15: Medicaid Managed Care | C15: =SUMIFS(TME[[#All],[Member Months]],TME[[#All],[Reporting Year]],Table1[[#Headers],[2018]],TME[[#All],[Insurance Category Code]],2) -> 0 | D15: =SUMIFS(TME[[#All],[Member Months]],TME[[#All],[Reporting Year]],Table1[[#Headers],[2019]],TME[[#All],[Insurance Category Code]],2) -> 0 | E15: =IFERROR(Table1[[#This Row],[2019]]/Table1[[#This Row],[2018]]-1,"NA") -> NA
B16: Medicaid Expenditures for Medicare/Medicaid Dual Eligibles | C16: =SUMIFS(TME[[#All],[Member Months]],TME[[#All],[Reporting Year]],Table1[[#Headers],[2018]],TME[[#All],[Insurance Category Code]],6) -> 0 | D16: =SUMIFS(TME[[#All],[Member Months]],TME[[#All],[Reporting Year]],Table1[[#Headers],[2019]],TME[[#All],[Insurance Category Code]],6) -> 0 | E16: =IFERROR(Table1[[#This Row],[2019]]/Table1[[#This Row],[2018]]-1,"NA") -> NA
B17: Total | C17: =SUM(C8,C11,C14) -> 0 | D17: =SUM(D8,D11,D14) -> 0 | E17: =IFERROR(Table1[[#This Row],[2019]]/Table1[[#This Row],[2018]]-1,"NA") -> NA
B19: Table 2: Total Medical Expense (TME) Trends by Line of Business, Net of Rebates (Unadjusted) | G19: Table 3: Per Member Per Month (PMPM) TME Trends by Line of Business, Net of Rebates (Unadjusted)
B20: Red highlighting indicates overall TME trend is greater than 5%, potentially indicating an error. | G20: Red highlighting indicates overall TME trend is greater than 5%, potentially indicating an error.
B21: Line of Business | C21: 2018 | D21: 2019 | E21: Trend | G21: Line of Business | H21: 2018 | I21: 2019 | J21: Trend
B22: Commercial - Total | C22: =SUM(C23:C24) -> 0 | D22: =SUM(D23:D24) -> 0 | E22: =IFERROR(Table17[[#This Row],[2019]]/Table17[[#This Row],[2018]]-1,"NA") -> NA | G22: Commercial - Total | H22: =IFERROR(Table17[[#This Row],[2018]]/C8,"NA") -> NA | I22: =IFERROR(Table17[[#This Row],[2019]]/D8,"NA") -> NA | J22: =IFERROR(Table178[[#This Row],[2019]]/Table178[[#This Row],[2018]]-1,"NA") -> NA
B23: Commercial - Full Claims | C23: =SUMIFS(TME[[#All],[Total Non-Truncated Claims and Non-Claims Spending]],TME[[#All],[Reporting Year]],Table17[[#Headers],[2018]],TME[[#All],[Insurance Category Code]],3) -> 0 | D23: =SUMIFS(TME[[#All],[Total Non-Truncated Claims and Non-Claims Spending]],TME[[#All],[Reporting Year]],Table17[[#Headers],[2019]],TME[[#All],[Insurance Category Code]],3) -> 0 | E23: =IFERROR(Table17[[#This Row],[2019]]/Table17[[#This Row],[2018]]-1,"NA") -> NA | G23: Commercial - Full Claims | H23: =IFERROR(Table17[[#This Row],[2018]]/C9,"NA") -> NA | I23: =IFERROR(Table17[[#This Row],[2019]]/D9,"NA") -> NA | J23: =IFERROR(Table178[[#This Row],[2019]]/Table178[[#This Row],[2018]]-1,"NA") -> NA
B24: Commercial - Partial Claims | C24: =SUMIFS(TME[[#All],[Total Non-Truncated Claims and Non-Claims Spending]],TME[[#All],[Reporting Year]],Table17[[#Headers],[2018]],TME[[#All],[Insurance Category Code]],4) -> 0 | D24: =SUMIFS(TME[[#All],[Total Non-Truncated Claims and Non-Claims Spending]],TME[[#All],[Reporting Year]],Table17[[#Headers],[2019]],TME[[#All],[Insurance Category Code]],4) -> 0 | E24: =IFERROR(Table17[[#This Row],[2019]]/Table17[[#This Row],[2018]]-1,"NA") -> NA | G24: Commercial - Partial Claims | H24: =IFERROR(Table17[[#This Row],[2018]]/C10,"NA") -> NA | I24: =IFERROR(Table17[[#This Row],[2019]]/D10,"NA") -> NA | J24: =IFERROR(Table178[[#This Row],[2019]]/Table178[[#This Row],[2018]]-1,"NA") -> NA
B25: Medicare - Total | C25: =SUM(C26:C27) -> 0 | D25: =SUM(D26:D27) -> 0 | E25: =IFERROR(Table17[[#This Row],[2019]]/Table17[[#This Row],[2018]]-1,"NA") -> NA | G25: Medicare - Total | H25: =IFERROR(Table17[[#This Row],[2018]]/C11,"NA") -> NA | I25: =IFERROR(Table17[[#This Row],[2019]]/D11,"NA") -> NA | J25: =IFERROR(Table178[[#This Row],[2019]]/Table178[[#This Row],[2018]]-1,"NA") -> NA
